BEGIN:VCALENDAR
VERSION:2.0
PRODID:-//Landordination Neumarkt - ECPv6.2.0.1//NONSGML v1.0//EN
CALSCALE:GREGORIAN
METHOD:PUBLISH
X-ORIGINAL-URL:https://www.landordination.at
X-WR-CALDESC:Veranstaltungen für Landordination Neumarkt
REFRESH-INTERVAL;VALUE=DURATION:PT1H
X-Robots-Tag:noindex
X-PUBLISHED-TTL:PT1H
BEGIN:VTIMEZONE
TZID:Europe/Vienna
BEGIN:DAYLIGHT
TZOFFSETFROM:+0100
TZOFFSETTO:+0200
TZNAME:CEST
DTSTART:20230326T010000
END:DAYLIGHT
BEGIN:STANDARD
TZOFFSETFROM:+0200
TZOFFSETTO:+0100
TZNAME:CET
DTSTART:20231029T010000
END:STANDARD
END:VTIMEZONE
BEGIN:VEVENT
DTSTART;VALUE=DATE:20231025
DTEND;VALUE=DATE:20231103
DTSTAMP:20260422T143943
CREATED:20230207T202304Z
LAST-MODIFIED:20230207T202304Z
UID:3419-1698192000-1698969599@www.landordination.at
SUMMARY:Herbstferien
DESCRIPTION:Unsere kurze Verschnaufpause vor der Erkältungswelle…
URL:https://www.landordination.at/event/herbstferien/
CATEGORIES:Urlaub
END:VEVENT
BEGIN:VEVENT
DTSTART;VALUE=DATE:20230710
DTEND;VALUE=DATE:20230731
DTSTAMP:20260422T143943
CREATED:20230207T202329Z
LAST-MODIFIED:20230207T202329Z
UID:3415-1688947200-1690761599@www.landordination.at
SUMMARY:Sommerurlaub 2023
DESCRIPTION:Wir nehmen uns eine Auszeit\, wie immer vertreten uns die KollegInnen des Doppelsprengels Wieselburg/Petzenkirchen/Bergland/Steinakirchen.
URL:https://www.landordination.at/event/sommerurlaub-2023/
CATEGORIES:Urlaub
END:VEVENT
BEGIN:VEVENT
DTSTART;VALUE=DATE:20230515
DTEND;VALUE=DATE:20230520
DTSTAMP:20260422T143943
CREATED:20230122T203045Z
LAST-MODIFIED:20230228T192514Z
UID:3417-1684108800-1684540799@www.landordination.at
SUMMARY:Fortbildung
DESCRIPTION:Lernen ist wie Rudern gegen den Strom. Hört man damit auf\, treibt man zurück. \nLoazi
URL:https://www.landordination.at/event/fortbildung/
CATEGORIES:Urlaub
END:VEVENT
BEGIN:VEVENT
DTSTART;VALUE=DATE:20230403
DTEND;VALUE=DATE:20230408
DTSTAMP:20260422T143943
CREATED:20230228T184928Z
LAST-MODIFIED:20230228T184928Z
UID:3632-1680480000-1680911999@www.landordination.at
SUMMARY:Osterferien
DESCRIPTION:Ein paar Tage Familienzeit für unser Team – leider nur in den Schulferien möglich.
URL:https://www.landordination.at/event/osterferien/
END:VEVENT
END:VCALENDAR